BEGIN:VCALENDAR
VERSION:2.0
PRODID:-//Tukios.com/
BEGIN:VEVENT
UID:c2430d49-8510-49ac-9ff2-ba3a1a9f496b@www.lamberteckert.com
DTSTAMP:20260424T195547Z
DTSTART:20260501T170000Z
DTEND:20260501T171500Z
SUMMARY:Burial
DESCRIPTION:
URL:https://www.lamberteckert.com/obituaries/william-karman
LOCATION:St. Mary's Cemetery 18424 Tisch Mills Rd.  Denmark WI 54208
GEO:44.3215149;-87.6304289
END:VEVENT
END:VCALENDAR