BEGIN:VCALENDAR
VERSION:2.0
PRODID:-//Tukios.com/
BEGIN:VEVENT
UID:bb44986d-de89-4916-b63e-3e7a9c902c39@www.lamberteckert.com
DTSTAMP:20260424T195717Z
DTSTART:20260501T160000Z
DTEND:20260501T170000Z
SUMMARY:Funeral Service
DESCRIPTION:
URL:https://www.lamberteckert.com/obituaries/william-karman
LOCATION:St. Isidore the Farmer Catholic Church 18424 Tisch Mills Road  
	Denmark WI 54208
GEO:44.3215862;-87.6304763
END:VEVENT
END:VCALENDAR