BEGIN:VCALENDAR
VERSION:2.0
PRODID:-//Tukios.com/
BEGIN:VEVENT
UID:1adb54d6-668f-4036-aaec-41976d58a058@www.lamberteckert.com
DTSTAMP:20260426T002743Z
DTSTART:20260429T160000Z
DTEND:20260429T170000Z
SUMMARY:Mass
DESCRIPTION:
URL:https://www.lamberteckert.com/obituaries/earl-wagner
LOCATION:St. Peter the Fisherman Catholic Church 3201 Mishicot Road  Two 
	Rivers WI 54241
GEO:44.163573;-87.5812782
END:VEVENT
END:VCALENDAR