BEGIN:VCALENDAR
VERSION:2.0
PRODID:-//Tukios.com/
BEGIN:VEVENT
UID:0cd035d1-7b6c-4e09-a4fa-dd373cce23bf@www.lamberteckert.com
DTSTAMP:20260426T003234Z
DTSTART:20260429T140000Z
DTEND:20260429T154500Z
SUMMARY:Visitation
DESCRIPTION:
URL:https://www.lamberteckert.com/obituaries/earl-wagner
LOCATION:St. Peter the Fisherman Catholic Church 3201 Mishicot Road  Two 
	Rivers WI 54241
GEO:44.163573;-87.5812782
END:VEVENT
END:VCALENDAR